Workbook

Sheet LOCAL
A1: CORPORATIVO AUTO REFACCIONES DE CALIDAD S.A. DE C.V.
A2: CLIENTES LOCALES ZONA 1 GERARDO ALPIZAR
F3: ULTIMA MODIFICACION 31-03-2017
A4: T | B4: No. | C4: CLIENTE | D4: CONTACTO | E4: CRED. Y COND. | F4: OBSERVACIONES Y/O COMENTARIOS
A5: L | B5: 836 | C5: MARIA DE LOURDES CASILLAS HERNANDEZ | D5: SR. GRACIANO ARIZA (COMPRAS) 5737-0899 | E5: AKEBONO 78.49% | F5: LIMITE DE CREDITO: $1,733,000.00
C6: SAN JUAN DE ARAGON # 849 COL AMPL. CASAS ALEMAN | D6: CEL. SR ARIZA 557110 0072 | E6: TEXTAR 76.91% | F6: ANTES IVAN RAMSES
C7: GUSTAVO A. MADERO DF CP 07580 | D7: LISTAS DE PRECIOS mega_ariza@outlook.com | E7: PRIVADAS 76.91% | F7: 30 DIAS CREDITO
C8: NEGOCIO "MEGA SUSPENSIONES BRAKE 2000" | D8: ELISA MOSTRADOR 5757-0766 / 5753-4506 | E8: ( OCD, SMD, MFD ) | F8: RUTA
D9: CONTADOR BLANQUEL 5737-7993 CEL. 5591958094 | F9: NO BACK ORDER
C10: COMPRA TMDL, AKEBONO, COBREQ, SUPER CERAMIC, METALLIC Y FLEET | D10: contamega2000@hotmail.com | E10: PROM
E11: =VLOOKUP(C5,'[1]1.GERARDO ALPIZAR'!$D$6:$Q$60,14,0) -> 278861.2
A12: L | B12: 94 | C12: BEATRIZ RUIZ PEREZ | D12: COMPRAS JULIO (EL ROJO) Ò DANIEL | F12: OBSERVACIONES Y/O COMENTARIOS
C13: AV. GUADIANA # 905. COL VALLE DE ARAGON C.P. 55235 | D13: DUEÑO RUBEN SANABRIA | F13: SIN LIMITE DE CREDITO
C14: ECATEPEC, EDO DE MEX | D14: balatas.sanabria@gmail.com | E14: PROM | F14: QUE LO ATIENDA MARITZA
C15: NEGOCIO "CLUTCH Y FRENOS SANABRIA" | D15: 5783 7107 | E15: =VLOOKUP(C12,'[1]1.GERARDO ALPIZAR'!$D$6:$Q$60,14,0) -> 201719.75 | F15: NO BACK ORDER
E16: AKEBONO 79% | F16: RUTA
C17: COMPRA TEXTAR, S,CERAMIC, METALLIC Y FLEET | E17: TEXTAR 76.91% | F17: 30 DIAS DE CREDITO
E18: PRIVADAS 76.91%
E19: ( OCD, SMD, MFD )
A20: L | B20: 8 | C20: GABRIEL REYES RAMIREZ | D20: SR. GABRIEL REYES | E20: 35 D. | F20: OBSERVACIONES Y/O COMENTARIOS
C21: CALLE ESPARTA # 53 COL. ALAMOS D.F. | D21: gabo.rey3s@gmail.com | E21: 78.83% GRAL. 77.72% AKEB. | F21: LIMITE DE CREDITO: $801,000.00
C22: DEL. BENITO JUAREZ C.P. 03400 | D22: 3547 3766 | E22: PROM
D23: 3625 1406 NEXTEL GABRIEL
C24: NEGOCIO "FRENBAL" | D24: 3547 3765 | E24: 175542.41
C25: COMPRA TMDL ,AKEBONO,TEXTAR,SUPERCERAMIC,SUPERFLEET ,
C26: SUPERMETALLIC Y COBREQ
A28: L | B28: 14 | C28: RAMON MOSQUEDA MARTINEZ | D28: DUEÑO Y COMPRAS RAMON MOSQUEDA / HUGO TAPIA | E28: 30 D. | F28: OBSERVACIONES Y/O COMENTARIOS
C29: LUZ SAVIÑON # 923 COL. DEL VALLE | D29: refaccionariaramon@hotmail.com | E29: 75.57% AKEB 5% EXTRA
C30: C.P. 03100 BENITO JUAREZ, D.F. | D30: 5543-6281 | E30: PROM | F30: LIMITE DE CREDITO: $910,000.00
C31: NEGOCIO "REFACCIONARIA RAMON" | D31: 8590-5587 | E31: =VLOOKUP(C28,'[1]1.GERARDO ALPIZAR'!$D$6:$Q$60,14,0) -> 102410.54 | F31: EL SR. GERARDO LO VE SU NUMERO ESTA
C32: COMPRA TMDL, AKEBONO, COBREQ, SELECTRUM Y SUPER CERAMIC | D32: 3330-0629 | F32: EN EL TELEFONO DIRECTO
A33: L | B33: 613 | C33: ALEJANDRO ZAVALA FLORES | D33: DUEÑO ALEJANDRO ZAVALA FLORES | E33: 30 D. | F33: OBSERVACIONES Y/O COMENTARIOS
C34: NICOLAS BRAVO # 17 COL. AZCAPOTZALCO CENTRO C.P. 02000 | D34: CONTACTO COMPRAS ERICK ALVAREZ | E34: 77.43% GRAL. 78% PRIV. | F34: LIMITE DE CREDITO: $190,000.00
C35: AZCAPOTZALCO, DF | D35: PAGOS LUZ MARIA MARTINEZ | E35: PROM | F35: AVISARLE SIMEPRE ANTES DE QUE LLEGUE TEXTAR
C36: NEGOCIO "ECOBRAKE" | D36: 5353 2615 / 5347 6448 | E36: =VLOOKUP(C33,'[1]1.GERARDO ALPIZAR'!$D$6:$Q$61,14,0) -> 102036.47 | F36: ENVIAR B.O. POR CORREO
C37: COMPRA AKEBONO, TXT, COBREQ, SELECTRUM, OE SUPER CERAMIC | D37: ecobrake_eduardo@yahoo.com.mx
A38: L | B38: 69 | C38: ELOY RAMIREZ GALLEGOS | D38: DUEÑO ELOY RAMIREZ | E38: 21 D. OCASIONAL | F38: OBSERVACIONES Y/O COMENTARIOS
C39: FRANCISCO MURGUIA M 77 L 10 COL. GRANJAS VALLE DE GPE CP.55270 | D39: CONTACTOS GABRIELA BEECERRIL Ó ELBA | E39: 79.45% CONTADO | F39: LIMITE DE CREDITO: $500,000.00
C40: ENTREGA EN : COYUCA # 2914 COL. SN FELIPE DE JESUS | D40: LISTA DE PRECIOS arorefacciones@hotmail.com | E40: 76.25 AKEBONO
C41: DISTRITO FEDERAL DELEG. GUSTAVO A MADERO | D41: FACTURAS comprasaro@hotamail.com | E41: PROM | F41: EL SR. GERARDO
...

Sheet FORANEO
A1: CORPORATIVO AUTO REFACCIONES DE CALIDAD S.A. DE C.V.
A2: CLIENTES FORANEOS ZONA 1 GERARDO ALPIZAR
F3: ULTIMA FECHA DE MODIFICACION 03/04/2022
A4: AGUASCALIENTES
A5: Z | B5: No. | C5: CLIENTE | D5: CONTACTO | E5: CRED. Y COND. | F5: OBSERVACIONES Y/O COMENTARIOS
A6: F | B6: 996 | C6: VERONICA NOEMI MEDINA DIAZ | D6: VERONICA N. MEDINA | E6: 30 DIAS CREDITO | F6: FLETERA:POTOSINOS, OCURRE, POR COBRAR
C7: AV. AGUASCALIENTES No. 338 ENTRE AV. DE LOS MAESTROS Y | D7: 449 914 4663 EXT.102 CEL. 449 117 7561 | E7: DESC GRAL 77.20%
C8: GENERAL FORTUNATO MAYCOTE COL. COLINAS DEL RIO | D8: agsveronica@hotmail.com | E8: AKEB 77%
C9: AGUASCALIENTES, C.P. 20010 | E9: PROM
C10: COMPRA TEXTAR, AKEBONO Y PRIVADAS | E10: 13510.89
A11: COAHUILA
A12: TORREÓN | B12: 1679 | C12: LILIANA CANSINO RUBIO | D12: CONTACTO RICARDO RIVERA | E12: CONTADO | F12: ANTES: RICARDO RIVERA DOMINGUEZ
C13: CALLE TREVIÑO No.4 SUR | D13: 871 7160 439 | E13: DESC GRAL 77.91% | F13: LIMITE DE CREDITO: $150,000.00
C14: COL. CENTRO | D14: FACTURAS y LISTAS | F14: METODO DE PAGO TRANSFERENCIA 03
C15: TORREON COAHUILA, C. P. 27000 | D15: drcfrenos@gmail.com | E15: PROM
C16: COMPRA : TEXTAR, SUPERCERAMIC | D16: frenosrivera@prodigy.net.mx | E16: 5222.58
A17: CUERNAVACA
A18: F | B18: 1811 | C18: ADRIANA BUSTAMANTE ALMEDA | D18: SRA. ADRIANA | F18: LIMITE DE CREDITO $23,948.95
C19: BLVD. PASEO CUAUHNAHUAC | D19: MARIBEL MOSTRADOR 01777 399-4123 / 01777 315 0632 | E19: DESC. GRAL. 78.52%
C20: COL. SATELITE | D20: 01 777 3224 524 | E20: PROM
C21: MUNICIPIO. CUERNAVACA | D21: 0177 7322 4524 OTRA SUCURSAL LIZET
C22: EDO. MORELOS | D22: WHATSAP: 044 777 25 00100
C23: CP. 62460 | D23: vmanuelm_elchato@hotmail.com / busalmeda24@gmail.com
A24: Z | B24: No. | C24: CLIENTE | D24: CONTACTO | E24: CRED. Y COND. | F24: OBSERVACIONES Y/O COMENTARIOS
A25: F | B25: 71 | C25: VICTOR MANUEL MARTINEZ JIMENEZ | D25: DUEÑO VICTOR MANUEL MARTINEZ | E25: 30 D. | F25: LIMITE DE CREDITO $350,000
C26: HELIOTROPO S/N. COL. SATELITE CP 62460 | D26: COMPRAS ESPOSA SRA. ADRIANA , MARIBEL CONTADORA | F26: METODO DE PAGO : CHEQUE
C27: CUERNAVACA, MORELOS | D27: MARIBEL MOSTRADOR 01777 399-4123 / 01 777 315 0632 | E27: DESC.GRAL.78.52%
C28: NEGOCIO "FRENOS Y COMPLEMENTOS CHATO" | D28: 0177 7322 4524 OTRA SUCURSAL | E28: PROM | F28: FLETERA: AUTOBUSES DE PRIM. CLASE M. ZACATEPEC
C29: COMPRA TEXTAR, AKEBONO, SUPER CERAMIC | D29: CONTADORA frenoschato73@hotmail.com | F29: OCASIONALMENTE LOGISTICOS JT
D30: LISTAS vmanuelm_elchato@hotmail.com | E30: 49104.55 | F30: OCURRE
D31: WHATSAP: 044 777 25 00100
A32: DURANGO
A33: Z | B33: No. | C33: CLIENTE | D33: CONTACTO | F33: OBSERVACIONES Y/O COMENTARIOS
A34: F | C34: MUELLES Y BALATAS DEL GUADIANA SA DE CV | D34: SRITA AURELIA 016188170165 COMPRAS:SR.ADOLFO MATUB | E34: CREDITO 30 DIAS
C35: CALLE AV. 20 DE NOVIEMBRE No 606 | D35: SRITA. JENNY 618 817 0993 | E35: DES. GRAL 76.25% | F35: LIMITE DE CREDITO :$105,000
B36: 56 | C36: COL. ZONA CENTRO | D36: FACTURAS Y LISTAS
C37: DURANGO DURANGO, C. P. 34000 | D37: mbgpagos@hotmail.com/mubgcredito@hotmail.com | E37: PROM | F37: METODO DE PAGO 02 CHEQUE
C38: COMPRA TEXTAR,AKEBONO,SUPERCERAMIC,S. METALLIC | D38: ventas03mbg@hotmail.com | F38: FLETE POR TRES GUERRAS A DOMICILIO POR COBRAR
D39: GERENTE ADM. CARLOS MATUB
A40: GUERRERO
...

Sheet RUTA 1
A1: CORPORATIVO AUTO REFACCIONES DE CALIDAD S.A. DE C.V.
A2: CARTERA GERARDO ALPIZAR
A3: RUTA 1
A4: Z | B4: No. | C4: CLIENTE | D4: CONTACTO | E4: CRED. Y COND. | F4: OBSERVACIONES Y/O COMENTARIOS
A5: L | B5: 51 | C5: OSCAR SANTILLAN CADENA | D5: DUEÑO OSCAR SANTILLAN | E5: 30 D.
C6: BLVD. ADOLFO LÓPEZ MATEOS # 1467 INT.203A | D6: COMPRAS ALBERTO LARA | E6: 0.735
C7: COL. SANTA MARÍA NONOALCO C.P.01420 | D7: 5331-2562
C8: ALVARO OBREGON, D.F. | D8: 5651-4091 | E8: PROM
C9: NEGOCIO "REFACCIONARIA SANTILLAN" | D9: autopartes.santillan@hotmail.com | E9: =VLOOKUP(C5,'[2]1.GERARDO ALPIZAR'!$D$6:$Q$61,14,0) -> 12010.845
C10: COMPRA TMDL, COBREQ, AKEBONO Y SUPER CERAMIC
A11: L | B11: 820 | C11: JENIFFER NAYELLI PEREZ LOPEZ | D11: ALMA DUEÑA Y COMPRAS | E11: 30 D. | F11: OBSERVACIONES Y/O COMENTARIOS
C12: SAN FEDERICO MZ. 2 LT. 9 COL. PEDREGAL DE STA. URSULA COAPA | D12: 5677 2540 | E12: 0.753
C13: DEL. COYOACAN, D.F. C.P. 04600 | D13: proveedoresleal@gmail.com | E13: PROM
E14: =VLOOKUP(C11,'[2]1.GERARDO ALPIZAR'!$D$6:$Q$61,14,0) -> 15851.049
C15: COMPRA TMDAL, SELECTRUM Y SUPER METALLIC
A16: L | B16: 1042 | C16: DIANA CHAVEZ DE LA SOTA | E16: 30 D. | F16: OBSERVACIONES Y/O COMENTARIOS
C17: PROLONGACIÓN DIVISION DEL NORTE N°56 | D17: JAVIER DE LA TORRE (COMPRAS) | E17: 75.70% GRAL.
C18: COL. EJIDO DE HUIPULCO C.P. 14390 | D18: 5603-1548
C19: TLALPAN DF | D19: 5603 5239 | E19: PROM
C20: NEGOCIO "C Y F VILLACOAPA" | E20: =VLOOKUP(C16,'[2]1.GERARDO ALPIZAR'!$D$6:$Q$61,14,0) -> 24866.523
C21: COMPRA TMDAL, AKEBONO, SELECTRUM Y SUPER CERAMIC | D21: cyfvzoe@gmail.com
A22: L | B22: 111 | C22: ROSA HILDA RAMIREZ REYES | D22: DUEÑA ROSA HILDA CONTACTO COMPRAS ANITA | E22: 35 D. | F22: OBSERVACIONES Y/O COMENTARIOS
C23: AV.CANAL DE MIRAMONTES # 2414 LOCAL D | D23: hramirez5@hotmail.com LISTAS Y OTROS | E23: 0.7772
C24: COL. AVANTE C.P.4460 COYOACAN, D.F. | D24: miramontes@fren-balexpress.com FACTURAS | E24: PROM
C25: NEGOCIO "FRENBAL MIRAMONTES" | D25: 6277-8639 / 6278 6285 | E25: =VLOOKUP(C22,'[2]1.GERARDO ALPIZAR'!$D$6:$Q$61,14,0) -> 67299.631
C26: COMPRA TMDL, AKEBONO, COBREQ, SELECTRUM Y SUPER CERAMIC | D26: 5678-5480
A27: L | B27: 1000 | C27: JOSE OCTAVIO RAMIREZ REYES | D27: OCTAVIO PEDIDOS POR RADIO | E27: 35 D. | F27: OBSERVACIONES Y/O COMENTARIOS
C28: TRABAJADORAS SOCIALES # 97 COL. SIFON | D28: LUIS PEDIDOS TELEFONICOS | E28: 0.7772
C29: C.P. 9400 IZTAPALAPA, D.F. | D29: luisjavierramirezcedillo@yahoo.com.mx | E29: PROM
C30: NEGOCIO "FRENBAL" | D30: 5686 5792 | E30: =VLOOKUP(C27,'[2]1.GERARDO ALPIZAR'!$D$6:$Q$61,14,0) -> 98474.886
C31: COMPRA TMDAL, AKEBONO, COBREQ, SELECTRUM Y SUPER CERAMIC | D31: NEXTEL OCTAVIO 3625 1405
A32: L | B32: 863 | C32: SILVIA MARLENE CRUZ REBOLLO | D32: MARCO ANTONIO ALFARO | E32: 21 D. | F32: OBSERVACIONES Y/O COMENTARIOS
C33: CANAL DEL MORAL MZA 3 LT.3 COL. GUADALUPE DEL MORAL | D33: 5694-9306 | E33: 0.73
C34: DISTRITO FEDERAL, DEL. IZTAPALAPA C.P. 09300 | D34: ventas@migsabrakes.com | E34: PROM
E35: =VLOOKUP(C32,'[2]1.GERARDO ALPIZAR'!$D$6:$Q$61,14,0) -> 10618.792
C36: COMPRA OE SUPER METALLIC PLUS, OE SUPER CERAMIC
A37: L | B37: 8 | C37: EDUARDO DELHUMEAU GONZALEZ | D37: ALEJANDRO | E37: 45 D. | F37: OBSERVACIONES Y/O COMENTARIOS
C38: CALLE 11 DE AGOSTO DE 1859 MZ. 123 LT 1312 A C.P. 09310 | D38: 5640 7698 | E38: 0.7814
C39: COL. LEYES DE REFORMA TERCERA SECC. D.F. DEL IZTAPALAPA | D39: fastfrenos@gmail.com | E39: PROM
E40: =VLOOKUP(C37,'[2]4.J.C.CORBELLO'!$D$6:$Q$26,14,0) -> #N/A
...

Sheet RUTA 2
A1: CORPORATIVO AUTO REFACCIONES DE CALIDAD S.A. DE C.V.
A2: CARTERA GERARDO ALPIZAR
A3: RUTA 2
A4: Z | B4: No. | C4: CLIENTE | D4: CONTACTO | E4: CRED. Y COND. | F4: OBSERVACIONES Y/O COMENTARIOS
A5: L | B5: 724 | C5: CLUTCH Y FRENOS ATIZAPAN, S.A. DE C.V. | D5: DUEÑO JESUS GARCIA | E5: 30 D.
C6: CERRADA DE LOS ALCANFORES 1-A | D6: CONTACTO MARICARMEN | E6: 0.73
C7: COL. EL POTRERO C.P. 52975 | E7: PROM
C8: ATIZAPAN DE ZARAGOZA, EDO. DE MEX. | D8: cyfasa@hotmail.com | E8: =VLOOKUP(C5,'[2]1.GERARDO ALPIZAR'!$D$6:$Q$60,14,0) -> 12714.746
C9: COMPRA TEXTAR, AKEBONO, SUPER CERAMIC, METALLIC
A10: L | B10: 1026 | C10: RENTAFIN, S.A. DE C.V. | D10: GUILLERMO SANCHEZ GERENTE | E10: 30 D. | F10: OBSERVACIONES Y/O COMENTARIOS
C11: PARQUE DE GRANADA # 71 INT 404. COL.PARQUES | D11: CONTACTO COMPRAS CLAUDIA ZEPEDA | E11: 0.757
C12: DE LA HERRADURA C.P. 52786 | F12: DISTRIB. AGENCIAS ACURA
C13: HUIXQUILUCAN, EDO. DE MEX. | D13: czepeda@rentafin.com.mx | E13: PROM
D14: Guillermo.Sanchez@grupolecumberri.com | E14: =VLOOKUP(C10,'[2]1.GERARDO ALPIZAR'!$D$6:$Q$56,14,0) -> 73846.259
C15: COMPRA AKEBONO, SUPER CERAMIC
A16: L | B16: 133 | C16: DON MANTENIMIENTO VEHICULAR, S.A. DE C.V. | D16: DUEÑO DON MELCHOR PEREZ MORALES (PAPÁ) | E16: 30 D.
C17: AV. PALO SOLO # 57. COL. PALO SOLO | D17: ROSARIO PAGOS Y CORREOS | E17: 0.7642
C18: C.P. 52778 HUIXQUILUCAN ESTADO DE MEXICO | D18: charo_flores070792@hotmail.com | E18: PROM
D19: charo.donfrenos@hotmail.com | E19: =VLOOKUP(C16,'[2]1.GERARDO ALPIZAR'!$D$6:$Q$54,14,0) -> 84889.93
C20: COMPRA TMDAL, SUPER CERAMIC, METALLIC Y FLEET | D20: 5291 3726
A21: L | B21: 5 | C21: FRENOS ZAIYER, S.A. DE C.V. | D21: DUEÑA SRA GEMA CASTRO ALBARRAN | E21: 30 D. | F21: OBSERVACIONES Y/O COMENTARIOS
C22: AV. JESUS CARRANZA N°7 | D22: COMPRAS ISAURO, ENRIQUE Y RAMON | E22: 0.7294
C23: COL. HUIZACHAL C.P. 53840 | D23: 55 89 00 79 | E23: PROM
C24: NAUCALPAN EDO. MEX. | D24: 5589 1675 | E24: =VLOOKUP(C21,'[2]1.GERARDO ALPIZAR'!$D$6:$Q$52,14,0) -> 24532.116
C25: COMPRA TMDAL, AKEBONO, COBREQ Y SUPER CERAMIC | D25: zaiyer@prodigy.net.mx
A26: L | B26: 613 | C26: ALEJANDRO ZAVALA FLORES | D26: DUEÑO ALEJANDRO ZAVALA FLORES | E26: 30 D. | F26: OBSERVACIONES Y/O COMENTARIOS
C27: NICOLAS BRAVO # 17 COL. AZCAPOTZALCO CENTRO C.P. 02000 | D27: CONTACTO COMPRAS ERICK ALVAREZ | E27: 76.25% GRAL. 78% PRIV.
C28: AZCAPOTZALCO, DF | D28: PAGOS LUZ MARIA MARTINEZ | E28: PROM
C29: NEGOCIO "ECOBRAKE" | D29: 5353 2615 / 5347 6448 | E29: =VLOOKUP(C26,'[2]1.GERARDO ALPIZAR'!$D$6:$Q$58,14,0) -> 94327.042
C30: COMPRA AKEBONO, TXT, COBREQ YSUPER CERAMIC | D30: ecobrake_eduardo@yahoo.com.mx
A31: L | B31: 1089 | C31: MARCO ANTONIO CARACHURE JAIMES | D31: COMPRAS SR. ADRIAN GONZALEZ | E31: CONTADO | F31: OBSERVACIONES Y/O COMENTARIOS
C32: AV. CUITLAHUAC No. 253 B COL. PRO-HOGAR | D32: 5556-4398 | E32: 0.757
C33: AZCAPOTZALCO, DISTRITO FEDERAL C.P. 02600 | D33: balatasymas@protonmail.com | E33: PROM
C35: COMPRA OE SUPER CERAMIC
A36: L | B36: 698 | C36: COMERCIALIZADORA AUTOMOTRIZ RODRIGUEZ , SA DE CV | D36: PAGOS JOSEFINA LOPEZ | E36: 40 D. | F36: OBSERVACIONES Y/O COMENTARIOS
C37: AV. CUITLAHUAC No. 300 LOCAL A Y B COL. ALDANA C.P. 02910 | D37: CONTACTO COMPRAS JESUS | E37: 0.7577
C38: DISTRITO FEDERAL, DEL. AZCAPOTZALCO | D38: 5386-7732 / 5399 5176 | E38: PROM
D39: comercializadora_arsa@yahoo.com.mx | E39: =VLOOKUP(C36,'[2]1.GERARDO ALPIZAR'!$D$6:$Q$52,14,0) -> #N/A
C40: COMPRA TMDAL, AKEBONO | D40: DUEÑO RICARDO SALVADOR
A41: A | B41: 836 | C41: MARIA DE LOURDES CASILLAS HERNANDEZ | D41: mega_ariza@outlook.com | E41: 30 D | F41: OBSERVACIONES Y/O COMENTARIOS
...

Sheet LUNES
A1: CORPORATIVO AUTO REFACCIONES DE CALIDAD S.A. DE C.V.
A2: CARTERA GERARDO ALPIZAR
F3: =FORANEO!F3 -> ULTIMA FECHA DE MODIFICACION 03/04/2022
A4: RUTA LUNES
A5: Z | B5: No. | C5: CLIENTE | D5: CONTACTO | E5: CRED. Y COND. | F5: OBSERVACIONES Y/O COMENTARIOS
A6: L | B6: 1225 | C6: SOLEDAD CALDERON ROCHA | D6: COMPRAS JESUS GARCIA GONZALEZ | E6: CREDITO 30 DIAS | F6: DIRECCION: 3RA CERRADA DE LAS AGUILAS
C7: TARANGO Mz. 1 Lt. 6 COL. LAS AGUILAS AMPLIACION | D7: CEL. 55 3984 7114 | E7: DESC. 30% | F7: No. 12 COL. AMPL. LAS AGUILAS
C8: ALCALDÍA ALVARO OBREGON, CDMX C.P. 01759 | D8: LOCAL 55 5593-2243 ó 554393 7428
C9: NEGOCIO "REFACCIONARIA DANY" | D9: refadany.jesus@gmail.com | E9: PROM
C10: COMPRA TEXTAR, AKEBONO Y PRIVADAS | D10: FACTURAS : solis_cr7@hotmail.com | E10: 48854.385
A11: L | B11: 820 | C11: JENIFFER NAYELLI PEREZ LOPEZ | D11: ALMA DUEÑA Y COMPRAS | E11: CREDITO 30 DIAS | F11: OBSERVACIONES Y/O COMENTARIOS
C12: SAN FEDERICO MZ. 2 LT. 9 COL. PEDREGAL DE | D12: 55 5677 2540 | E12: DESC. 30% | F12: LIMITE DE CREDITO: $80,000.00
C13: STA URSULA COAPA | D13: CEL. 55 1345 1323
C14: ALCALDÍA COYOACAN, CDMX C.P. 04600 | D14: proveedoresleal@gmail.com | E14: PROM
C15: COMPRA TEXTAR, AKEBONO Y PRIVADAS | E15: 24112.684
A16: L | B16: 1042 | C16: DIANA CHAVEZ DE LA SOTA | D16: JAVIER DE LA TORRE (COMPRAS) | E16: CREDITO 30 DIAS | F16: OBSERVACIONES Y/O COMENTARIOS
C17: PROLONGACIÓN DIVISION DEL NORTE N°56 | D17: SECRETARIA SALOME | F17: LIMITE DE CREDITO: $135,000.00
C18: COL. EX HACIENDA SAN JUAN DE DIOS C.P. 14380 | D18: 55 5603 1548 - 55 5603 5239 | E18: DESC. 25%
C19: ALCALDÍA TLALPAN, CDMX | D19: CEL. SR. JAVIER 55 3383 1042
C20: NEGOCIO "C Y F VILLACOAPA" | D20: diana.chavez.fact@gmail.com | E20: PROM
C21: COMPRA TEXTAR, MARCAS PRIVADAS | E21: 33306.059
A22: L | B22: 111 | C22: ROSA HILDA RAMIREZ REYES | D22: ROSA HILDA O MARICELA | F22: OBSERVACIONES Y/O COMENTARIOS
C23: AV.CANAL DE MIRAMONTES # 2414 LOCAL D | D23: hramirez5@hotmail.com LISTAS | E23: CREDITO 35 DIAS
C24: COL. AVANTE C.P.4460 ALCALDÍA COYOACAN, CDMX | D24: miramontes@fren-balexpress.com FACTURAS | E24: DESC. 30%
C25: NEGOCIO "FRENBAL MIRAMONTES" | D25: 55 6277-8639 / 55 6278 6285 | E25: PROM
C26: COMPRA TEXTAR, AKEBONO Y PRIVADAS | D26: 555678-5480 CEL 55 1865 6589 | E26: 30962.511
A27: L | B27: 1000 | C27: JOSE OCTAVIO RAMIREZ REYES | D27: OCTAVIO Y DANIEL PEDIDOS POR WHATS | E27: CREDITO 35 DIAS | F27: OBSERVACIONES Y/O COMENTARIOS
C28: TRABAJADORAS SOCIALES # 97 COL. SIFON | D28: LOCAL: 55 5686 5792 - 55 5633 8957 | E28: DESC. 30% | F28: LIMITE DE CREDITO: $850,000.00
C29: ALCALDÍA IZTAPALAPA | D29: CELULAR 55 3625 1405
C30: C.P. 9400 CDMX | D30: FACTURAS: eje6@fren-balexpress.com | E30: PROM
C31: NEGOCIO "FRENBAL EXPRESS " | D31: LISTAS : frenbaldaniel_rc@yahoo.com.mx | E31: 36141.133
C32: COMPRA TEXTAR, AKEBONO Y PRIVADAS | D32: joctavio.ramirez@gmail.com
A33: L | B33: 1697 | C33: COMERCIALIZADORA FAST FRENOS, S.A. DE C.V. | D33: ALEJANDRO GONZALEZ | E33: 45 DIAS | F33: OBSERVACIONES Y/O COMENTARIOS
C34: AV. LEYES DE REFORMA 3RA SECC. | D34: 55 5640 7698 | E34: DESC. 37.50%
C35: MANZANA 123 LOTE 1312 A-1 IZTAPALAPA CDMX. | D35: CELUAR ALEX 55 8740 6950 | F35: SOLO LINEA AKEBONO
C36: COL. LEYES DE REFORMA 3RA. SECC. | D36: fastfrenos@gmail.com; facturacion@fastfrenos.com.mx | E36: PROM
C37: COMPRA TEXTAR,AKEBONO Y PRIVADAS | D37: DUEÑO EDUARDO DELHUMEAU | E37: 115762.04
A38: L | B38: 94 | C38: BEATRIZ RUIZ PEREZ | D38: COMPRAS RICARDO O ELIOT | E38: CREDITO 30 DIAS | F38: OBSERVACIONES Y COMENTARIOS
C39: AV. GUADIANA # 905. COL VALLE DE ARAGON C.P. 55235 | D39: DUEÑO SR. RUBEN SANABRIA | E39: DES. 37.50% | F39: SIN LIMITE DE CREDITO
C40: ECATEPEC, EDO DE MEX | D40: balatas.sanabria@gmail.com
...

Sheet PROMS
A1: Cliente | B1: 12
A2: BEATRIZ RUIZ PEREZ | B2: 205426.28 | C2: 222108.03 | D2: 264331.82 | E2: 304841.78 | F2: 116728.94 | G2: 180271.95 | H2: 185523.29 | I2: 118543.3 | J2: 200409.96 | K2: 123311.7 | L2: 181896.4 | M2: 220199.11 | N2: 193632.71
A3: LUCIO RAMIREZ SANDOVAL | B3: 304966.26 | C3: 164310 | D3: 585.78 | E3: 6715.96 | F3: 55012.24 | G3: 474549.22 | H3: 176165.1 | I3: 131520.92 | J3: 34742.53 | K3: 207012.37 | L3: 291432.84 | M3: 205397.55 | N3: 171034.23
A4: RICARDO SALVADOR RODRIGUEZ JUÁREZ | B4: 110696.74 | C4: 117836.47 | D4: 127459.19 | E4: 110939.81 | F4: 140214.88 | G4: 108107.21 | H4: 177992.91 | I4: 171503.7 | J4: 127792.43 | K4: 79633.72 | L4: 83052.36 | M4: 118803.51 | N4: 122836.08
A5: COMERCIALIZADORA FAST FRENOS SA DE CV | B5: 67111.7 | C5: 95401.26 | D5: 43210.44 | E5: 301305.98 | F5: 168894.19 | G5: 11042.64 | H5: 49551.91 | I5: 171908.36 | J5: 139428.93 | K5: 49561.9 | L5: 192726.78 | M5: 99000.34 | N5: 115762.04
A6: DON MANTENIMIENTO VEHICULAR SA DE CV | B6: 68238.92 | C6: 84871.53 | D6: 110634.71 | E6: 77017.46 | F6: 108836.78 | G6: 152115.13 | H6: 82234.05 | I6: 101740.46 | J6: 98068.71 | K6: 118289.65 | L6: 179626.5 | M6: 142560.19 | N6: 110352.84
A7: BALATAS Y COMPLEMENTOS OSO SA DE CV | B7: 115747.79 | C7: 103753.06 | D7: 50354.67 | E7: 44851.54 | F7: 108585.18 | G7: 71358.79 | H7: 52781.8 | I7: 165510.57 | J7: 90261.85 | K7: 176791.13 | L7: 86288.55 | M7: 112709.78 | N7: 98249.559
A8: COMERCIALIZADORA DE AUTOPARTES FRECENTAU | B8: 64180.68 | C8: 51553.86 | D8: 52822.49 | E8: 76400.12 | F8: 46062.51 | G8: 99673.82 | H8: 64358.44 | I8: 122609.14 | J8: 106818 | K8: 91001.88 | L8: 96324.78 | M8: 116812.76 | N8: 82384.873
A9: VICTOR MANUEL MARTINEZ JIMENEZ | B9: 41090.48 | C9: 21014.85 | D9: 5718.93 | E9: 36329.57 | F9: 48308.57 | G9: 193098.97 | H9: 45389.79 | I9: 4079.24 | J9: 116155.11 | K9: 29402.14 | L9: 1010.88 | M9: 230591.37 | N9: 64349.158
A10: GABRIEL REYES RAMIREZ 8 | B10: 37340.96 | C10: 33972.9 | D10: 40661.8 | E10: 74246.69 | F10: 87420.13 | G10: 57304.34 | H10: 72222.17 | I10: 76849.92 | J10: 83024.63 | K10: 20826.58 | L10: 83559.86 | M10: 86604.47 | N10: 62836.204
A11: JONATHAN ARI QUINTERO VAZQUEZ | B11: 74943.16 | C11: 65383.56 | D11: 168098.82 | E11: 123866.13 | F11: 98647.93 | G11: 70129.4 | H11: 22744.81 | I11: 42945.85 | J11: 6026.05 | K11: 3795.81 | L11: 48612.3 | M11: 16247.46 | N11: 61786.773
A12: SOLEDAD CALDERON ROCHA | B12: 51184.07 | C12: 18408.41 | D12: 54394.33 | E12: 44375.5 | F12: 84766.67 | G12: 57580.45 | H12: 52250.99 | I12: 57588.52 | J12: 46507.74 | K12: 44467.03 | L12: 39107.69 | M12: 35621.22 | N12: 48854.385
A13: MAURICIO CHAVEZ MARTINEZ | B13: 30989.75 | C13: 1080.24 | D13: 42955.51 | E13: 39804.76 | F13: 61902.41 | G13: 55774.69 | H13: 22851.18 | I13: 61443.95 | J13: 42925.75 | K13: 53774.37 | L13: 58893.06 | M13: 47024.35 | N13: 43285.002
A14: CLUTCH Y FRENOS ELVIS S A DE C V | B14: 33723.96 | C14: 18917.85 | D14: 40291.1 | E14: 38726.86 | F14: 37305.51 | G14: 47820.43 | H14: 29432.01 | I14: 46288.94 | J14: 34371.79 | K14: 49266.08 | L14: 41553.41 | M14: 40772.59 | N14: 38205.878
A15: AUTOREFACCIONES ALEMANAS Y JAPONESAS SA | B15: 45465.58 | C15: 25134.98 | D15: 35200.33 | E15: 33543.27 | F15: 39842.94 | G15: 16019.88 | H15: 123051.12 | J15: 108720.92 | K15: 12597.92 | M15: 8343.98 | N15: 37326.743
A16: JOSE OCTAVIO RAMIREZ REYES | B16: 27163.75 | C16: 7023.6 | D16: 19960.59 | E16: 35819.65 | F16: 34360.73 | G16: 43650.08 | H16: 44654.26 | I16: 37487.67 | J16: 38607.83 | K16: 48817.46 | L16: 48547.01 | M16: 47600.96 | N16: 36141.133
A17: DIANA CHAVEZ DE LA SOTA | B17: 30273.47 | C17: 20530.82 | D17: 39130.79 | E17: 28102.68 | F17: 34211.43 | G17: 34042.43 | H17: 39612.05 | I17: 19330.47 | J17: 24143.81 | K17: 42764.42 | L17: 28818.47 | M17: 58711.87 | N17: 33306.059
A18: PATRICIA ESTHER MARAVER ROJAS | B18: 34988.47 | C18: 43239.16 | D18: 26845.53 | E18: 31694.48 | F18: 36754.74 | G18: 37498.9 | H18: 25197.72 | I18: 24879.1 | J18: 25718.34 | K18: 39076.59 | L18: 20333.33 | M18: 25847.77 | N18: 31006.178
A19: ROSA HILDA RAMIREZ REYES | B19: 25451.57 | C19: 33320.24 | D19: 16123.07 | E19: 29810.83 | F19: 28250.59 | G19: 32941.25 | H19: 27163.44 | I19: 56243.09 | J19: 39866.11 | K19: 19500.45 | L19: 38059.27 | M19: 24820.22 | N19: 30962.511
A20: MARIA MAGDALENA UTRERA MONTERO | B20: 23830.32 | C20: 26747.54 | D20: 33062.26 | E20: 35056.82 | F20: 11122.75 | G20: 28840.7 | H20: 31336.84 | I20: 38421.61 | J20: 27509.67 | K20: 30431.5 | L20: 39762.99 | M20: 22633.44 | N20: 29063.037
A21: JENIFFER NAYELLI PEREZ LOPEZ | B21: 10326.16 | C21: 13551.12 | D21: 41682.35 | E21: 33993.36 | F21: 22401.15 | G21: 37042.04 | H21: 41043.7 | I21: 14593.62 | J21: 52512.75 | K21: 18030.98 | L21: 4174.98 | N21: 24112.684
A22: ALEJANDRO ZAVALA FLORES | B22: 40979.17 | C22: 28843.82 | D22: 26539.58 | E22: 30868.89 | F22: 7449.25 | G22: 50562.78 | H22: 10388.23 | I22: 10348.67 | J22: 8343.29 | L22: 12134.23 | M22: 48946.17 | N22: 22950.34
A23: FRANCISCO ANTONIO CASTILLO VILLANUEVA | B23: 23755.5 | C23: 25876.17 | D23: 31977.55 | F23: 38951.62 | G23: 26329.27 | H23: 16074.08 | I23: 11455.82 | J23: 17512.06 | K23: 21350.578 | L23: 15665.1 | M23: 41996.93 | N23: 22578.723
A24: AUTOPARTES Y SERVICIOS KOI SA DE CV | B24: 8553.32 | C24: 8280.94 | D24: 24376.91 | E24: 9334.32 | G24: 11464.58 | H24: 22266.38 | I24: 23475.42 | J24: 19454.28 | K24: 26251.43 | L24: 25629.39 | M24: 51054.5 | N24: 19178.456
A25: ESPERANZA MONTIEL ONTIVEROS | B25: 16429.57 | C25: 18644.16 | D25: 19893.99 | F25: 8640.8 | G25: 12230.83 | H25: 21713.49 | I25: 23064.05 | J25: 21590.93 | K25: 17396.94 | L25: 15151.93 | M25: 21825.22 | N25: 16381.826
A26: COMERCIALIZADORA VAZQUEZ Y DOMINGUEZ SA | B26: 5539.38 | C26: 16175.92 | E26: 15470.93 | F26: 45575.85 | G26: 51110.04 | H26: 11794.19 | I26: 1871.59 | J26: 23955.97 | K26: 4588.69 | L26: 17594.22 | N26: 16139.732
A27: JOSE DE JESUS GARCIA MENDOZA | B27: 3766.83 | C27: 5693.02 | D27: 11711.3 | E27: 7866.24 | F27: 14580.36 | G27: 9762.74 | H27: 18267.67 | I27: 18013.3 | J27: 14988.13 | K27: 18916.55 | L27: 25175.08 | M27: 21146.83 | N27: 14157.338
A28: GABRIEL REYES RAMIREZ 1069 | B28: 6439.15 | C28: 10538.03 | D28: 5421.08 | E28: 9529.71 | F28: 14938.5 | G28: 10130.44 | H28: 2732.3 | I28: 7332.61 | J28: 16783.53 | K28: 3289.33 | L28: 15976.61 | M28: 16231.09 | N28: 9945.1983
A29: VERONICA NOEMI MEDINA DIAZ | B29: 30949.59 | C29: 34481.32 | G29: 53235.93 | N29: 9888.9033
A30: SERGIO LEZAMA REYES | B30: 7700.65 | C30: 11211.2 | D30: 7851.32 | E30: 12058.4 | F30: 8331.92 | G30: 11435.08 | H30: 14290.47 | I30: 5252.1 | J30: 3815.94 | K30: 14898.08 | L30: 7806.21 | M30: 13061.54 | N30: 9809.4092
A31: GUADALUPE VAZQUEZ RUIZ | B31: 9333.71 | C31: 5421.13 | D31: 2408.5 | E31: 17005.78 | F31: 11838.03 | G31: 10788.01 | H31: 8792.4 | I31: 12672.32 | J31: 10019.73 | K31: 8544.86 | L31: 3699.96 | M31: 10390.83 | N31: 9242.9383
A32: RICARDO SALVADOR RODRIGUEZ JUÁREZ (SUC HGO) | B32: 15599.45 | E32: 16130.02 | G32: 18143.42 | I32: 22373.23 | K32: 18148.81 | M32: 20111.3 | N32: 9208.8525
A33: ALVARO AGUILAR VALDES | B33: 1039.28 | C33: 5256.7 | D33: 41329.13 | E33: 1625.24 | F33: 5880.49 | G33: 7572.03 | H33: 10592.74 | I33: 7925.72 | N33: 6768.4442
A34: MARLYNE JULIANNA NAVARRO ALANIS | B34: 497.18 | F34: 600.85 | G34: 676.81 | H34: 510.46 | I34: 615.03 | J34: 8190.38 | K34: 18804.41 | L34: 17527.9 | M34: 32732.89 | N34: 6679.6592
A35: PARTES Y SERVICIOS COLIN SA DE CV | C35: 15678.09 | E35: 17836.52 | F35: 20878.49 | J35: 5578.24 | L35: 9030.42 | M35: 3227.24 | N35: 6019.0833
A36: FRENOS ZAIYER SA DE CV | B36: 6309.59 | C36: 1866.75 | D36: 9104.25 | E36: 2530.22 | F36: 9141.06 | G36: 4445.24 | H36: 4200.17 | I36: 2364.61 | J36: 5006.17 | K36: 7929.52 | L36: 7854.15 | M36: 11082.58 | N36: 5986.1925
A37: FRENCO MEXICO SA DE CV | B37: 14600.81 | C37: 8390.4 | D37: 3077.16 | E37: 9019.85 | F37: 11211.47 | G37: 11498.51 | H37: 3084.59 | I37: 2620.53 | K37: 4936.69 | L37: 2134.94 | N37: 5881.2458
A38: NURIA XIMENA RODEA MORENO | B38: 7976.45 | C38: 9785.17 | D38: 7351.46 | F38: 7840.29 | H38: 3448.02 | I38: 7933.68 | K38: 10499.27 | L38: 4776.44 | M38: 8709.77 | N38: 5693.3792
A39: ADRIANA BUSTAMANTE ALMEDA | L39: 65578.75 | N39: 5464.8958
A40: MANUEL ROBERTO MIRANDA TORRES | I40: 41467.3 | J40: 4565.65 | K40: 980.97 | L40: 12597.97 | N40: 4967.6575
...

Sheet RUTA 4
A1: CORPORATIVO AUTO REFACCIONES DE CALIDAD S.A. DE C.V.
A2: CARTERA GERARDO ALPIZAR
A3: RUTA 4
A4: Z | B4: No. | C4: CLIENTE | D4: CONTACTO | E4: CRED. Y COND. | F4: OBSERVACIONES Y/O COMENTARIOS
A5: L | B5: 104 | C5: SERGIO LEZAMA REYES | D5: DUEÑO SERGIO LEZAMA | E5: CONTADO
C6: AV. HIDALGO # 65. COL SAN ANDRES ATENCO | D6: 5362 8057 | E6: 0.7
C7: C.P. 54040 | E7: PROM
C8: TLALNEPANTLA, EDO DE MEX | D8: tallerlezama@yahoo.com.mx
C9: NEGOCIO "FRENOS SAN ANDRES"
C10: COMPRA TMDAL, AKEBONO Y SELECTRUM
A11: L | B11: 136 | C11: AUTOMOTRIZ ISSAC ARMOR | D11: JAVIER COMPRAS Y PAGOS | E11: CONTADO | F11: OBSERVACIONES Y/O COMENTARIOS
C12: CORUÑA # 199 INT. 401 COL VIADUCTO PIEDAD IZTACALCO, DF | D12: 5358 5393
C13: CP. 08200 OFNA. :BLVD. MANUEL AVILA CAMACHO | D13: issacarmor@hotmail.com | E13: 0.7
C14: # 348 FRENTE A TRONCOSO | E14: PROM
C15: NAUCALPAN, EM
C16: COMPRA AKEBONO, TEXTAR
A17: L | B17: 122 | C17: MIGUEL ANGEL CUEVAS ALBARRAN | D17: DUEÑO Y COMPRAS MIGUEL A. CUEVAS | E17: 30 D. | F17: OBSERVACIONES Y/O COMENTARIOS
C18: CAMINO A SANTA FE # 1314 COL. LA MEXICANA | D18: 1664 0995 | E18: 0.73
C19: DISTRITO FEDERAL DEL. ALVARO OBREGON | D19: bysquiroga@hotmail.com | E19: PROM
C20: C.P. 01260 COMPRA TEXTAR, SELECTRUM, FERODO Y SUPER CERAMIC
C21: NEGOCIO "BALATAS Y SUSPENSIONES QUIROGA"
A22: L | B22: 717 | C22: LEONARDO COLIN SALAS | D22: SR. COLIN O JENY | E22: CONTADO | F22: OBSERVACIONES Y/O COMENTARIOS
C23: RICARTE # 505 COL SAN BARTOLO ATEPEHUACAN | D23: colin.express@live.com.mx | E23: 0.73
C24: C.P. 07730 GUSTAVO A. MADERO DF | D24: 55 87 64 62 | E24: PROM
C25: NOMBRE DE EL NEGOCIO: PARTES Y SERVICIOS COLIN, S.A. DE C.V.
C26: COMPRA AKEBONO
A27: L | B27: 428 | C27: PARTES Y SERVICIOS COLIN, S.A. DE C.V. | D27: DUEÑO SR. LEONARDO COLIN ROMERO | E27: 30 D. | F27: OBSERVACIONES Y/O COMENTARIOS
C28: RICARTE # 497 COL SAN BARTOLO ATEPEHUACAN | D28: COMPRAS JENNY | E28: 0.73
C29: C.P. 07730 GUSTAVO A. MADERO DF | D29: 5587-6402 | E29: PROM
D30: 5587-5649
C31: COMPRA AKEBONO | D31: pyscolin@serviciocolin.com
A32: L | B32: 69 | C32: ELOY RAMIREZ GALLEGOS | D32: DUEÑO ELOY RAMIREZ | E32: 21 D. OCASIONAL | F32: OBSERVACIONES Y/O COMENTARIOS
C33: FRANCISCO MURGUIA M 77 L 10 COL. GRANJAS VALLE DE GPE CP.55270 | D33: CONTACTOS GABRIELA BEECERRIL Ó ELBA | E33: 79.45% CONTADO Ó
C34: ENTREGA EN : COYUCA # 2914 COL. SN FELIPE DE JESUS | D34: LISTA DE PRECIOS arorefacciones@hotmail.com | E34: 76.25 AKEBONO
C35: DISTRITO FEDERAL DELEG. GUSTAVO A MADERO | D35: FACTURAS comprasaro@hotamail.com | E35: PROM
C36: NEGOCIO "ARO REFACCIONES" | D36: 5746 0949 | E36: 159959.04
C37: COMPRA TMDL, FERODO, COBREQ | D37: 62*295425*2 CEL. SR. ELOY 55 8580 1635
A38: L | B38: 690 | C38: ALVARO AGUILAR VALDES | D38: COMPRAS ALVARO HIJO | E38: 15 D. | F38: OBSERVACIONES Y/O COMENTARIOS
C39: CARLOS PICHARDO CRUZ No. 34 COL. STA. MARIA MAGDALENA | D39: 6348 5181 | E39: 0.75
C40: C.P. 55715 EDO. DE MEX. COACALCO DE BERRIOZ | D40: frenos.importados@outlook.com | E40: PROM
...

Sheet RUTA 5
A1: CORPORATIVO AUTO REFACCIONES DE CALIDAD S.A. DE C.V.
A2: CARTERA GERARDO ALPIZAR
A3: RUTA 5
A4: Z | B4: No. | C4: CLIENTE | D4: CONTACTO | E4: CRED. Y COND. | F4: OBSERVACIONES Y/O COMENTARIOS
A5: L | B5: 17 | C5: COMERCIALIZADORA DE AUTOPARTES FRECENTAURO, S.A. DE C.V. | D5: DUEÑO SR. JORGE GELOVER | E5: 30 D.
C6: 1a. PRIVADA DE PROVIDENCIA M-5 L-4. COL. LOS OLIVOS | D6: COMPRAS ALEJANDRO LOPEZ GTE. DE VTAS. | E6: 76.58% SENSORES 80.0%
C7: C.P 13210 TLAHUAC, D.F. | D7: frececompras@yahoo.com.mx / frececomprass@yahoo.com.mx | E7: PROM
D8: 5850-2550 / 5850-2551 | E8: 154406.5
C9: COMPRA TEXTAR, FERODO, COBREQ, AKEBONO | D9: 1312-5250
A10: L | B10: 87 | C10: HUMBERTO JAVIER ABARCA RAMIREZ | D10: DUEÑO Y COMPRAS HUMBERTO J. ABARCA | E10: 30 D. | F10: OBSERVACIONES Y/O COMENTARIOS
C11: C.RETORNO 23 VENTISCA MZ.26 L29 CASA B4 | D11: autorefaccionesari@hotmail.com | E11: 0.73
C12: COL. VIENTOS C.P.56530 | D12: 044 55 3421-0567
C13: IXTAPALUCA, EM | D13: 59 76 05 63 (CASA) | E13: PROM
C14: NEGOCIO "COMERCIALIZADORA ABARCA"
C15: COMPRA TEXTAR, SELECTRUM Y COBREQ
A16: L | B16: 803 | C16: COMERCIALIZADORA PALUVA, S.A. DE C.V. | D16: DUEÑO ALEJANDRO GARCIA PANTOJA | F16: OBSERVACIONES Y/O COMENTARIOS
C17: JUAREZ No. INT 301 EXT. 108 COL. SAN LUCAS TEPETLACALCO | D17: COMPRAS ANTONIO MONTELONGO | E17: CONTADO
C18: C.P. 54055 EDO. DE MEX. TLANEPANTLA | D18: 6578-3515 NEXTEL | E18: 0.73
D19: amontelongo.s2b@hotmail.com LISTAS DE PRECIOS | E19: PROM
D20: smart2brothers@hotmail.com FACTURAS
C21: COMPRA TMDAL , AKEBONO Y SUPER CERAMIC
A22: L | B22: 684 | C22: BOTTAGLIA S.A DE C.V | D22: LUIS XAVIER Y/Ó HUMBERTO ANGELES | E22: CONTADO | F22: OBSERVACIONES Y/O COMENTARIOS
C23: CISNES MANZANA 19 LOTE 7, COL. VALLE DE TULES | E23: 0.74
C24: C.P. 54900, TULTITLAN ESTADO DE MEXICO | D24: 5384-5346 | E24: PROM
D25: humberto_angeles@hotmail.com
C26: COMPRA TMDAL, AKEBONO | D26: humer_angeles@hotmail.com
A27: L | B27: 801 | C27: ROTORES, TAMBORES Y MASAS, S. A. DE C.V. | D27: DUEÑO RICARDO BULLEGOYRI | E27: 15 D. | F27: OBSERVACIONES Y/O COMENTARIOS
C28: F.J. DE TORQUEMADA No. 13 - A COL. OBRERA | D28: 5530 5264 | E28: 0.757
C29: DISTRITO FEDERAL, DEL. CUAUHTEMOC, C.P. 06800 | D29: rotamasa@hotmail.com | E29: PROM
C31: COMPRA TMD, SUPER CERAMIC

Sheet RUTA 6
A1: CORPORATIVO AUTO REFACCIONES DE CALIDAD S.A. DE C.V.
A2: CARTERA GERARDO ALPIZAR
A3: RUTA 6
A4: Z | B4: No. | C4: CLIENTE | D4: CONTACTO | E4: CRED. Y COND. | F4: OBSERVACIONES Y/O COMENTARIOS
A5: T | B5: 41 | C5: CLOUTCH Y FRENOS DE TOLUCA, S.A. DE C.V. | D5: clutchyfrenosdetoluca@hotmail.com | E5: 15 D
C6: LEONA VICARIO # 105 COL. SANTA CLARA | D6: PEPE (COMPRAS) | E6: 0.73
C7: C.P. 50090 TOLUCA | D7: 01722 215 9712 | F7: ZONA 4
C8: ESTADO DE MEXICO | D8: 01722 215 2842 | E8: PROM
C10: COMPRA TEXTAR, S. CERAMIC
A11: T | B11: 707 | C11: EDGAR CONZUELO CONTRERAS | D11: NORBERTO | E11: 15 D. | F11: OBSERVACIONES Y/O COMENTARIOS
C12: AV. BENITO JUAREZ SUR #1010 COL. UNIVERSIDAD TOLUCA | D12: 01722 219 4828/ 01 722 270 6372 | E12: 0.757
C13: EDO. DE MEX. TOLUCA C.P. 50130 | D13: edconzu@yahoo.com.mx
D14: SRITA. MIRLA PAGOS | E14: PROM | F14: ZONA 4
C16: COMPRA TEXTAR, S. CERAMIC, S. METALLIC
A17: T | B17: 880 | C17: ESPERANZA MONTIEL ONTIVEROS | D17: COMPRAS HUGO | E17: 15 D. | F17: OBSERVACIONES Y/O COMENTARIOS
C18: AV. SOLIDARIDAD LAS TORRES | D18: 01 722 223 4537 | E18: 0.757
C19: COL. SEMINARIO 1A, 2A Y 3A SECCION TOLUCA, EDO. DE MEX. | D19: rossbernalb@hotmail.com | E19: PROM
C21: COMPRA TMDL, S. CERAMIC, METALLIC Y FLEET
A22: T | B22: 424 | C22: RICARDO SALVADOR RODRIGUEZ JUÁREZ | D22: DUEÑO RICARDO SALVADOR | E22: 40 D. | F22: OBSERVACIONES Y/O COMENTARIOS
C23: JOSE MARIA PINO SUAREZ SUR # 1519 | D23: COMPRAS OSCAR VELAZQUEZ 62*138705*3 NEXTEL | E23: 0.7577
C24: COL. NUEVA SANTA MARIA LAS ROSAS | D24: 01 722 2773 007 | E24: PROM
C25: C.P. 50140 TOLUCA, EM | D25: 01722 27 01 775
C26: NEGOCIO "CLUTCH Y FRENOS RODRIGUEZ" | D26: ric_pisis@hotmail.com
C27: COMPRA TEXTAR, AKEBONO, SUPER CERAMIC Y METALLIC | D27: oscar_veltrejo15sc@hotmail.com LISTAS DE PRECIOS
A28: T | B28: 785 | C28: MELCHOR PEREZ FLORES | D28: DUEÑO MELCHOR PEREZ FLORES ( HIJO ) | E28: 30 D. | F28: OBSERVACIONES Y/O COMENTARIOS
C29: AV. MORELOS No. INT. C EXT. 746 COL. SAN SEBASTIAN | D29: AURORA (ESPOSA ) | E29: 0.7642
C30: EDO. DE MEXICO, TOLUCA C.P. 50150 | D30: 01 722 1670471 | E30: PROM
D31: 01 722 213 2849 / 01 722 271 2749
C32: COMPRA: TXT, SUPER CERAMIC, METALLIC Y AKEBONO | D32: donfrenos@hotmail.com
A33: T | B33: 839 | C33: MECHANIC´S POWER SERVICE | D33: COMPRAS GILBERTO | E33: 40 D. | F33: OBSERVACIONES Y/O COMENTARIOS
C34: BLV. AEROPUERTO MIGUEL ALEMAN No. 743 COL. SAN MATEO ATENCO | D34: DUEÑO RICARDO SALVADOR
C35: ENTRE LAGO YURIDIA Y VICENTE GUERRERO A 100 MTS. DE PASEO | D35: 01 728 288 6148 / 01 728 288 6369 | E35: 0.7577
C36: TOLLOCAN A 400 DE AV, LAS TORRES | D36: refaccionesgrupoar@hotmail.com | E36: PROM
C37: REFACCIONARIA Y TAALLER AUTOMOTRIZ
C38: COMPRA TXT, S. CERAMIC

Sheet RUTA 7
A1: CORPORATIVO AUTO REFACCIONES DE CALIDAD S.A. DE C.V.
A2: CARTERA GERARDO ALPIZAR
A3: RUTA 7
A4: Z | B4: No. | C4: CLIENTE | D4: CONTACTO | E4: CRED. Y COND. | F4: OBSERVACIONES Y/O COMENTARIOS
A5: M | B5: 20 | C5: YOLANDA ELIZONDO GARZA | D5: DUEÑO ING. LUIS PRO | E5: 35 D.
C6: SIERRA MORENA 296 PTE. COL. JERÓNIMO SILLER | D6: CONTACTOS PATY Y JOVITA | E6: 0.75 | F6: DIRECCION DEL TALLER:
C7: C.P. 66250 NUEVO LEON, GARZA GARCIA | D7: ( FACTURAS ) admin@promotriz.com | E7: PROM | F7: Corregidora No. 522 Nte. Entre independencia y Morones Prieto.
C8: NEGOCIO "SERVICIO PROMOTRIZ" | D8: luispro@promotiz.com LISTAS DE PRECIOS | E8: =VLOOKUP(C5,'[2]1.GERARDO ALPIZAR'!$D$6:$Q$60,14,0) -> 32324.72 | F8: Pasando la Policía de tránsito y antes de la Cruz Roja
C9: COMPRA TEXTAR, AKEBONO, SUPER CERAMIC, FERODO | D9: 01 8183 384 903 | F9: El Ing. Pro come entre 1 1:30 ahí mismo en el Taller
A10: M | B10: P | C10: AGUSTIN RAFAEL ARECHIGA NUÑEZ | F10: OBSERVACIONES Y/O COMENTARIOS
C11: VICENTE GUERRERO #206 NORTE | D11: boostauto@life.com | E11: 76.00% AKEB | F11: LE INTERESA AKEBONO
C12: CENTRO DE SAN PEDRO GARZA GARCIA C.P. 66230 | D12: 04581 2100 1259 | E12: PROM | F12: SE LE MANDO LISTA C/DESC. DEL 76%
C13: ENTRE CALLE REFORMA Y PORFIRIO DIAZ
A15: M | B15: 1082 | C15: OPERADORA INTERPARTES, S.A. DE C.V. | D15: COMPRAS VICTOR M. RIVERA MORENO | E15: 30 D. | F15: OBSERVACIONES Y/O COMENTARIOS
C16: AV. ALFONSO REYES No. 2712 COL. BERNADO REYES | D16: 01 81 8370 6510 | E16: 0.78
C17: MONTERREY, NUEVO LEON C.P. 64280 | D17: CEL. 045 81 1175 2053 | E17: PROM
C18: ENTRE CALLE RIO PILON Y RIO MAGALLANES | D18: vrivera@op-interpartes.mx | E18: =VLOOKUP(C15,'[2]1.GERARDO ALPIZAR'!$D$6:$Q$61,14,0) -> 69121.854
C19: COMPRA OE SUPER CERAMIC, METALLIC, FLEET Y TEXTAR
A20: M | B20: 1032 | C20: PRODEFSA AUTOPARTES SA DE CV | D20: DUEÑO VICTOR RIVERA Y CARLOS RIVERA | E20: 60 D. | F20: OBSERVACIONES Y/O COMENTARIOS
C21: AVENIDA RUIZ CORTINES No. 1000 COL. BELLAVISTA C.P. 64410 | D21: COMPRAS PATRICIA GARCIA | E21: 0.775
C22: MONTERREY, NUEVO LEON | D22: gerencia@prodefsa.com.mx / compras@prodefsa.com.mx | E22: 80.0% MARCAS PRIVADAS
D23: vrivera@prodefsa.com.mx / crivera@prodefsa.com.mx | E23: PROM
D24: 01 8181 252200 | E24: =VLOOKUP(C20,'[2]1.GERARDO ALPIZAR'!$D$6:$Q$61,14,0) -> 16331.517
C25: COMPRA TXT, SUPER CERAMIC, METALLIC, FLEET
A26: M | B26: 10 | C26: REFACCIONARIA CASA VILLARREAL, S.A. DE C.V. | D26: DUEÑO LIC RICARDO VILLAREAL | E26: 30 D. | F26: OBSERVACIONES Y/O COMENTARIOS
C27: CARLOS SALAZAR N°334 OTE. COL. CENTRO | D27: COMPRAS CESAR AGUIRRE | E27: 0.753
C28: C.P. 64000 MONTERREY, N.L. | D28: 01 81 81 25 5858 EXT. 228 | E28: PROM
D29: cesarpooh@yahoo.com | E29: =VLOOKUP(C26,'[2]1.GERARDO ALPIZAR'!$D$6:$Q$61,14,0) -> 6223.9183
C30: COMPRA TEXTAR | D30: SECRETARIA VERONICA GRANADOS
A31: M | B31: P | C31: CARLOS HERNANDEZ CERDA | D31: CONTACTO CARLOS HERNANDEZ | F31: OBSERVACIONES Y/O COMENTARIOS
C32: MEZQUITES No. 706 COL. LOS FRESNOS 4ta. SECC. | D32: 0181 8312 7603
C33: APODACA, NUEVO LEON | D33: carlos_hdz1977@hotmail.com | E33: PROM

Sheet MARTES
A1: CORPORATIVO AUTO REFACCIONES DE CALIDAD S.A. DE C.V.
A2: CARTERA GERARDO ALPIZAR
F3: =FORANEO!F3 -> ULTIMA FECHA DE MODIFICACION 03/04/2022
A4: RUTA MARTES
A5: Z | B5: No. | C5: CLIENTE | D5: CONTACTO | E5: CRED. Y COND. | F5: OBSERVACIONES Y/O COMENTARIOS
A6: L | B6: 2466 | C6: JOSÉ DE JESÚS GARCÍA MENDOZA | D6: DUEÑO JESUS GARCIA | E6: CRÉDITO 30 DÍAS | F6: VIENE MOSTRADOR
C7: CERRADA DE LOS ALCANFORES 1-A | D7: MARICARMEN / SR. JESÚS / SANDY | E7: DESC. 20% | F7: ANTES CLUTCH Y FRENOS ATIZAPAN
C8: COL. EL POTRERO C.P. 52975 | D8: 55 5824-0119 / 55 1668-0874 | E8: PROM
C9: ATIZAPAN DE ZARAGOZA, EDO. DE MEX. | D9: CEL SR. JESÚS 55 2475-1194 | E9: 14157.338
C10: NEGOCIO "CLUTCH Y FRENOS ATIZAPAN" | D10: cyfasa@cyfasa.com.mx
C11: COMPRA: TEXTAR, AKEBONO Y PRIVADAS
C12: BALATAS Y COMPLEMENTOS OSO S.A. DE C.V. | D12: MARIO OSORNIO / HIJO MARIO OSORNIO | E12: CRÉDITO 21 DIAS | F12: OBSERVACIONES Y/O COMENTARIOS
C13: CALLE FRANCISCO BARRERA NUM.EXT.13 | D13: COMPRAS: ALFREDO CARRILLO | E13: DESC. 30%
A14: L | B14: 401 | C14: COL. SAN JUAN BOSCO CP.52946 | D14: 55 58 25 08 68 - 55 58 22 35 08 | F14: SIN LIMITE DE CREDITO
C15: ESTADO DE MEXICO, ATIZAPAN | D15: FACTURAS: cfdioso@hotmail.com | E15: PROM
C16: COMPRA: TEXTAR , AKEBONO Y PRIVADAS | D16: LISTAS: comprasoso@hotmail.com | E16: 98249.559
A17: L | B17: 13 | C17: CLUTCH Y FRENOS ELVIS, S. A. DE C. V. | D17: ALBERTO CELULAR 55 4610-7859 | E17: CRÉDITO 30 DÍAS | F17: OBSERVACIONES Y/O COMENTARIOS
C18: CALZADA LA NARANJA # 867 Y 873 COL. AMPL. SAN | D18: 55 5358-1930 / 55 5358-1626 | E18: DESC.30%
C19: PEDRO XALPA C.P. 02719 . | D19: FACTURAS: facturas.elvis@yahoo.com
C20: ALCALDÍA AZCAPOTZALCO, CDMX | D20: LISTAS: albertoelvis66@yahoo.com | E20: PROM
C21: COMPRA: TEXTAR, AKEBONO Y PRIVADAS | E21: 38205.878
A22: L | B22: 1774 | C22: ALEXIS DAVID MONTAÑEZ CRUZ | D22: COMPRAS Y DUEÑO ALEXIS MONTAÑEZ | E22: CONTADO | F22: OBSERVACIONES Y/O COMENTARIOS
C23: GOBERNADOR ABUNDIO GOMEZ #14 COL. AHUIZOTLA | D23: TEL LOCAL 55 5576-9777 | E23: DESC 20%
C24: NAUCALPAN, ESTADO DE MEXICO C.P. 53378 | D24: CEL. 55 4374 1013
C25: COMPRA TEXTAR, AKEBONO Y PRIVADAS, SELECTRUM | D25: FACTURAS Y LISTAS | E25: PROM
D26: alexisfrenosdm@outlook.com | E26: 4223.1717
A27: L | B27: 132 | C27: ISMAEL MARTIN VALENCIA SOLIS | D27: ISMAEL M. VALENCIA, HMNO: RICARDO VALENCIA | E27: CRÉDITO 30 DÍAS | F27: OBSERVACIONES Y/O COMENTARIOS
C28: SAN JUAN TLIHUACA NO. 2 | D28: CEL. 553415-7611 | E28: DES. 20% | F28: COMPRA VOLÚMEN #MM TEXTAR
C29: COL. SAN JUAN TLIHUACA. ALCALDÍA AZCAPOTZALCO, | D29: TEL. LOCAL 55 5318-1457
C30: CDMX C.P. 02400 | D30: clutch.valencia@hotmail.com | E30: PROM
C31: COMPRA: TEXTAR Y CERAMIC | E31: 3707.7767
A32: L | B32: 613 | C32: ALEJANDRO ZAVALA FLORES | D32: DUEÑO ALEJANDRO ZAVALA FLORES | E32: CRÉDITO 30 DÍAS | F32: OBSERVACIONES Y/O COMENTARIOS
C33: NICOLAS BRAVO # 17 COL. AZCAPOTZALCO CENTRO | D33: ERICK ALVAREZ CEL 5539813404 | E33: DESC. 25%
C34: C.P. 02000 ALCALDÍA AZCAPOTZALCO, CDMX | D34: PAGOS LUZ MARIA MARTINEZ
C35: NOMBRE DEL NEGOCIO "ECOBRAKE" | D35: 55 5353 2615 / 55 5347 6448 | E35: PROM
C36: COMPRA TEXTAR, AKEBONO Y PRIVADAS, SELECTRUM | D36: ecobrake_eduardo@yahoo.com.mx | E36: 22950.34
A37: L | B37: 1089 | C37: MARCO ANTONIO CARACHURE JAIMES | D37: COMPRAS SR. ADRIAN GONZALEZ | E37: CRÉDTO 15 DÍAS | F37: OBSERVACIONES Y COMENTARIOS
C38: AV. CUITLAHUAC No. 253 B COL. PRO-HOGAR | D38: 55 55 56 43 98 | E38: DESC. 20%
C39: ALCALDÍA AZCAPOTZALCO, CDMX C.P. 02600 | D39: balatasymas@protonmail.com | E39: PROM
C40: NEGOCIO: "BALATAS Y MAS PROKLAND" | D40: adri.gz5@gmail.com | E40: 0
...

Sheet MIERCOLES
A1: CORPORATIVO AUTO REFACCIONES DE CALIDAD S.A. DE C.V.
A2: CARTERA GERARDO ALPIZAR
F3: =FORANEO!F3 -> ULTIMA FECHA DE MODIFICACION 03/04/2022
A4: RUTA MIÉRCOLES
A5: Z / EDO | B5: No. | C5: CLIENTE | D5: CONTACTO | E5: CRED. Y COND. | F5: OBSERVACIONES Y/O COMENTARIOS
A6: TOLUCA | B6: 1989 | C6: RICARDO SALVADOR RODRIGUEZ JUAREZ "SUCURSAL" | D6: PEDIDOS 722 649 5627 GPO. WHATSAPP | E6: CRÉDITO 40 DÍAS | F6: LIMITE DE CREDITO:$220,000.00
C7: AV. HIDALGO ORIENTE N° EXT. 912 INT.C | D7: JESSICA 729 107 7837 (PEDIDO FINAL)/ ULISES | E7: GRAL 76.98% | F7: CYC SRITA. JOSEFINA 722 54 22 425
C8: C.P. 50090 COL. VERTICE TOLUCA DE LERDO, MEXICO | D8: CONTACTO EN SUCURSL: JULIA ESQUIVEL | E8: AKEB 78%
C9: REFACCIONARIA. "FRENOS Y REPUESTOS DE TOLUCA SUCURSAL" | D9: LISTAS: car980911sa@gmail.com | E9: PROM
C10: COMPRA: TEXTAR Y PRIVADAS | D10: FACTURAS: ric_piscis@hotmail.com | E10: 7456.9
A11: TOLUCA | B11: 880 | C11: ESPERANZA MONTIEL ONTIVEROS | D11: COMPRAS HUGO | E11: CRÉDITO 30 DÍAS | F11: OBSERVACIONES Y/O COMENTARIOS
C12: AV. SOLIDARIDAD LAS TORRES | D12: 722 223 4537 | E12: DESC. GRAL. 76.91%
C13: COL. SEMINARIO 1A, 2A Y 3A SECC TOLUCA, EDO. DE MEX. | D13: FACTURAS: rossbernalb@hotmail.com | E13: AKEB 78.61%
C14: NEGOCIO: "MASE REFACCIONES" | D14: CEL. HUGO 722 510 8038 Sra. Esperanza 722 162 0984 | E14: PROM
C15: COMPRA: TEXTAR Y PRIVADAS | D15: SRA ESPERANZA: pemontiel@yahoo.com.mx | E15: 6883.87
A16: TOLUCA | B16: 424 | C16: RICARDO SALVADOR RODRIGUEZ JUAREZ | D16: DUEÑO RICARDO SALVADOR | E16: CRÉDITO 40 DÍAS
C17: JOSE MARIA PINO SUAREZ SUR # 1519 | D17: COMPRAS OMAR MANJARREZ CEL 722 228 3041 | E17: DESC. GRAL. 76.98% | F17: LIMITE DE CREDITO $245,000.00
C18: COL. NUEVA SANTA MARIA LAS ROSAS | D18: 722 2773 007 / 722 670 9412/ 722 54 22 426 | E18: 78.00% AKEB
C19: C.P. 50140 TOLUCA, EM | D19: FACTURAS; compras@grupo-ar.mx | E19: PROM
C20: NEGOCIO "CLUTCH Y FRENOS RODRIGUEZ" | D20: frenos.ventas@grupo-ar.mx LISTA DE PRECIOS | E20: 110460.59
C21: COMPRA TEXTAR, AKEBONO Y PRIVADAS | D21: abraham.urchid@grupo-ar.mx ricardo.rodriguez@grupo-ar.mx
A22: TOLUCA | B22: 2398 | C22: MARIA ANTONIETA CARDENAS RUIZ | D22: DUEÑO HERIBERTO ESPINOSA | E22: CONTADO | F22: OBSERVACIONES Y/O COMENTARIOS
C23: AV. MEXICO #305 COL. AMERICAS | D23: PEDIDOS OSCAR MEDRANO 722 358 8845 | E23: 78% GRAL.
C24: TOLUCA, EDO DE MEXICO C.P. 50130 | D24: hespinos2003@hotmail.com | E24: PROM
C25: COMPRA TEXTAR Y PRIVADAS | E25: 2347.05
A26: TOLUCA | B26: 1933 | C26: AUTO PARTES Y SERVICIOS KOI S.A. DE C.V | E26: CRÉDITO 30 DÍAS | F26: OBSERVACIONES Y/O COMENTARIOS
C27: NOMBRE DEL NEGOCIO "FRENOS MANDIBULA" | D27: AURORA TASHELY O MELCHOR PEREZ | E27: DESC GRAL. 77.59%
C28: MORELOS Nº 746-C C.P.50150 | D28: 722 522 6535 / 722 213 28 49 | E28: AKEB 79.50%
C29: COL. SAN SEBASTIAN | D29: CEL. MELCHOR 722 177 6220 | E29: PROM
C30: TOLUCA, ESTADO DE MEXICO | D30: mandibulafrenos@yahoo.com.mx | E30: 18638.89
C31: COMPRA AKEBONO Y PRIVADAS
A32: L | B32: 14 | C32: RAMON MOSQUEDA MARTINEZ | D32: RAMON MOSQUEDA / HUGO TAPIA | E32: CONTADO | F32: OBSERVACIONES Y/O COMENTARIOS
C33: LUZ SAVIÑON # 923 COL. DEL VALLE | D33: refaccionariaramon@hotmail.com | E33: AKEB 78.50% | F33: SOLO VENTA DE CONTADO PREVIA AUTORIZACION DE CYC
C34: C.P. 03100 ALCALDÍA BENITO JUAREZ, CDMX | D34: 55 5543 6281/55 8590 5587/55 3330 0629 | E34: DESC.GRAL. 76.54%
C35: NEGOCIO "REFACCIONARIA RAMON" | D35: 55 1290 0341 | E35: PROM
C36: COMPRA TEXTAR, AKEBONO, SUPER CERAMIC | D36: CEL. 551290-0341 | E36: 3090.34
A37: L | B37: 17 | C37: COMERCIALIZADORA DE AUTOPARTES FRECENTAURO, S.A. DE C.V. | D37: DUEÑO SR. JORGE GELOVER HIJO | E37: CRÉDITO 30 DÍAS | F37: OBSERVACIONES Y/O COMENTARIOS
C38: 1a. PRIVADA DE PROVIDENCIA M-5 L-4. COL. LOS OLIVOS | D38: COMPRAS ALEJANDRO LOPEZ Y/O ANTONIO | E38: TEXTAR. 78.92% | F38: NO BACK ORDER
C39: C.P 13210 ALCALDÍA TLAHUAC, CDMX | D39: frececompras@yahoo.com.mx | E39: SENSORES 80%
C40: COMPRA TEXTAR, AKEBONO | D40: 5850-2550 / 5850-2551 | E40: PROM
...

Sheet JUEVES
A1: CORPORATIVO AUTO REFACCIONES DE CALIDAD S.A. DE C.V.
A2: CARTERA GERARDO ALPIZAR
F3: =FORANEO!F3 -> ULTIMA FECHA DE MODIFICACION 03/04/2022
A4: RUTA JUEVES
A5: Z | B5: No. | C5: CLIENTE | D5: CONTACTO | E5: CRED. Y COND. | F5: OBSERVACIONES Y/O COMENTARIOS
A6: L | B6: 1429 | C6: MOTEGI AUTOMOTRIZ SA DE CV | D6: SONIA RESENDIZ GERENTE | E6: CREDITO 30 DIAS | F6: SIN LIMITE DE CREDITO
C7: CARRETERA MEXICO TOLUCA # 5292 COL. EL YAQUI | D7: CONTACTO ANDRES BERMUDEZ GERENTE REFACCIONES | E7: DESCUENTO GRAL 77.15% | F7: METODO PAGO: 03 TRANSFERENCIA ELECTRONICA
C8: CUAJIMALPA DE MORELOS C.P. 05320 | D8: 5062-1111 EXT 7068 ANDRES | E8: PROM | F8: ANTES RENTAFN
C9: COMPRA AKEBONO, TEXTAR, | D9: LISTAS andres.bermudes@acurainterlomas.com | E9: 7311.75
C10: NEGOCIO: AGENCIA ACURA INTERLOMAS | D10: sonia.resendiz@acurainterlomas.com
A11: L | B11: 133 | C11: DON MANTENIMIENTO VEHICULAR, S.A. DE C.V. | D11: MELCHOR PEREZ MORALES (PAPÁ) COMPRAS | E11: CREDITO 30 DIAS | F11: LIMITE DE CREDITO:$430,000.00
C12: AV. PALO SOLO # 57. COL. PALO SOLO | D12: LAURA RAMIREZ PAGOS Y CORREOS | E12: TEXTAR Y PRIVADAS 77.59%
C13: C.P. 52778 HUIXQUILUCAN ESTADO DE MEXICO | D13: LISTAS Y OTROS: donfrenos@hotmail.com | E13: AKEBONO 78.50%
C14: COMPRA TEXTAR, AKEBONO, PRIVADAS | D14: 55 5291 3726 55 5290-3045 | E14: PROM
D15: CEL LAURA RMZ 55 1505 7953 | E15: 56345.58
A16: L | B16: 684 | C16: BOTTAGLIA S.A DE C.V | D16: LUIS SEGURA COMPRAS | E16: CREDITO 30 DIAS | F16: OBSERVACIONES Y/O COMENTARIOS
C17: CISNES MANZANA 19 LOTE 7, COL. VALLE DE TULES
C18: C.P. 54900, TULTITLAN ESTADO DE MEXICO | D18: LOCAL 7586-2099 Y 7586-2211 | E18: DESCUENTO GRAL 78%
C19: COMPRA: TEXTAR, AKEBONO Y PRIVADAS | D19: Cel: 5518004676
D20: FACTURAS: proveedores@hlautopartes.com.mx | E20: PROM
D21: LISTAS bottaglia@gmail.com | E21: 1597.35
A22: L | B22: 5 | C22: FRENOS ZAIYER, S.A. DE C.V. | D22: DUEÑA SRA GEMA CASTRO ALBARRAN | E22: CONTADO | F22: OBSERVACIONES Y/O COMENTARIOS
C23: AV. JESUS CARRANZA N°7 | D23: COMPRAS ENRIQUE Y RAMON | E23: DESC. GRAL. 76.64%
C24: COL. HUIZACHAL C.P. 53840 | D24: 55 89 00 79 / 5589 1675 | E24: AKEBONO 78%
C25: NAUCALPAN EDO. MEX. | D25: CEL. 55 2187-0939 | E25: PROM
C26: COMPRA TEXTAR, AKEBONO, PRIVADAS | D26: FACTURAS:creditoycobranza.fzsa@telmexmail.com | E26: 6015.09
D27: compraszb01@prodigy.net.mx
B28: 1002 | C28: HILDA PEREZ MORALES | D28: SR. DAVID | E28: CONTADO | F28: OBSERVACIONES Y/O COMENTARIOS
C29: GRAL. JESUS CARRANZA #4 | D29: 5293-0009 | E29: DESC. GRAL 70% | F29: VIENE A MOSTRADOR
A30: L | C30: COL. EL HUIZACHAL NAUCALPAN | D30: ser_a@hotmail.com | E30: AKEB 77%
C31: EDO DE MEXICO C.P. 53840 | E31: PROM
C32: COMPRA: TEXTAR, S. CERAMIC | E32: 688.52
A34: L | B34: 1069 | C34: GABRIEL REYES RAMIREZ Jr. | D34: GABRIEL REYES HIJO | E34: CREDITO 35 DIAS | F34: OBSERVACIONES Y/O COMENTARIOS
C35: SANTA CRUZ No. 169 LOCAL B COL. SAN SIMON TICOMAC | D35: 55 3625 1406 NEXTEL GABRIEL | E35: DESCUENTO GRAL.78.83% | F35: LIMITE DE CREDITO:$800,000.00
C36: ALCALDÍA BENITO JUAREZ, CDMX C.P. 03660 | D36: 55 7030-1710 Y 55 7030-1711 | E36: PROM
C37: OTRA SUCURSAL DE FRENBAL | D37: LISTAS Y OTROS: gabo.rey3s@gmail.com | E37: 8981.1
C38: COMPRA TEXTAR, AKEBONO Y PRIVADAS
A39: L | B39: 8 | C39: GABRIEL REYES RAMIREZ | D39: DUEÑO Y COMPRAS GABRIEL REYES | E39: CREDITO 35 DIAS | F39: OBSERVACIONES Y/O COMENTARIOS
C40: CALLE ESPARTA # 53 COL. ALAMOS CDMX | D40: gabrielrfbe@yahoo.com.mx | E40: DESCUENTO GRAL. 78.83% | F40: LIMITE DE CREDITO: $801,000.00
C41: ALCALDÍA BENITO JUAREZ , CDMX C.P. 03400 | D41: FACTURAS: viaducto@fren-balexpress.com | E41: PROM
...

Sheet VIERNES 
A1: CORPORATIVO AUTO REFACCIONES DE CALIDAD S.A. DE C.V.
A2: CARTERA GERARDO ALPIZAR
F3: =FORANEO!F3 -> ULTIMA FECHA DE MODIFICACION 03/04/2022
A4: RUTA VIERNES
A5: Z | B5: No. | C5: CLIENTE | D5: CONTACTO | E5: CRED. Y COND. | F5: OBSERVACIONES Y/O COMENTARIOS
A6: L | B6: 104 | C6: SERGIO LEZAMA REYES | D6: DUEÑO SERGIO LEZAMA | E6: CONTADO | F6: COMPRA POR MOSTRADOR
C7: AV. HIDALGO # 65. COL SAN ANDRES ATENCO | D7: CEL. SR. SERGIO 551341-1603 | E7: DESC. GRAL.73.59%
C8: TLALNEPANTLA, EDO DE MEX C.P. 54040 | D8: CEL. SERGIO JR. 553226-7605 | E8: AKEBONO 75%
C9: NOMBRE DEL NEGOCIO: ¨LEZAMA AUTOMOTRIZ¨ | D9: tallerlezama@yahoo.com.mx | E9: PROM
C10: COMPRA: TEXTAR, AKEBONO Y PRIVADAS | E10: 8045.48
A11: L | B11: 2225 | C11: JONATHAN ARI QUINTERO | D11: CONTACTO: CESAR CAMPERO | E11: 40 DIAS | F11: DIRECCIÓN DE OFNA: AV. ADOLFO LOPÉZ MATEOS
C12: MIGUEL FLORES MZ D LT | D12: CEL. 554819-9258 | E12: DESC. GRAL. 78.13% | F12: NO. 38 COL. VALLE DE SANTA MÓNICA
C13: COL. SAN RAFAEL COACALCO DE BERRIOZABAL | D13: AUTORIOZACIONES MARELYN 33 2538 1100 | F13: TLALNEPANTLA, ESADO DE MEXICO CP.54047
C14: ESTADO DE MEXICO C.P. 55719 | D14: cesar.campero@hotmail.com | E14: PROM. | F14: LIMITE DE CRÉDITO $250,000
C15: COMPRA: TEXTAR Y SUPER CERAMIC | D15: july_navarro_a@hotmail.com | E15: 43603.13
A16: L | B16: 428 | C16: PARTES Y SERVICIOS COLIN, S.A. DE C.V. | D16: DUEÑO SR. LEONARDO COLIN ROMERO | E16: CREDITO 30 DIAS | F16: OBSERVACIONES Y/O COMENTARIOS
C17: RICARTE # 497 COL SAN BARTOLO ATEPEHUACAN | D17: SRA. GRACIELA | E17: DESC. GRAL. 76.25% | F17: LIMITE CREDITO :$100,000.00
C18: C.P. 07730 ALCALDÍA GUSTAVO A. MADERO, CDMX | D18: 55 5752 0519 | E18: AKEBONO 77%
C19: COMPRA AKEBONO Y SENSORES TEXTAR | D19: pyscolin@serviciocolin.com | E19: PROM
A21: L | B21: 717 | C21: LEONARDO COLIN SALAS | D21: SR. COLIN O JENY | E21: CREDITO 30 DIAS | F21: OBSERVACIONES Y/O COMENTARIOS
C22: RICARTE # 505 COL SAN BARTOLO ATEPEHUACAN | D22: 55 55 87 64 62 | E22: DESC. GRAL. 76.25% | F22: LIMITE CREDITO :$100,000.00
C23: C.P. 07730 ALCALDÍA GUSTAVO A. MADERO, CDMX | E23: AKEBONO 77%
C24: NOMBRE DE EL NEGOCIO: PARTES Y SERVICIOS COLIN | D24: colinexpress@serviciocolin.com | E24: PROM
C25: COMPRA AKEBONO Y SENSORES TEXTAR
A26: L | B26: 405 | C26: PATRICIA ESTHER MARAVER ROJAS | D26: CONTACTO PATRICIA MARAVER | E26: CREDITO 30 DIAS | F26: OBSERVACIONES Y/O COMENTARIOS
C27: URANIO No 2 | D27: 55 5787 2482 | E27: DESC GRAL. 78% | F27: LIMITE DE CREDITO: $100,000.00 DOMICILIO:
C28: COL. LAZARO CARDENAS | D28: CEL. 55 7051 8107 | F28: CIRCUITO LAS FUENTES #54 COL. FUENTES DE SAN
C29: ECATEPEC DE MORELOS, C. P. 55190 | D29: LISTAS patyemr0212@gmail.com | E29: PROM | F29: CRISTOBAL ECATEPEC(DIRECCION DE ENTRGA)
C30: COMPRA TEXTAR, AKEBONO Y PRIVADAS | D30: pfacturas@gmail.com | E30: 22921.9
A31: L | B31: 690 | C31: ALVARO AGUILAR VALDES | D31: COMPRAS ALVARO HIJO | E31: CONTADO | F31: OBSERVACIONES Y/O COMENTARIOS
C32: CARLOS PICHARDO CRUZ No. 34 COL. STA. MARIA MAGDALENA | D32: 55 6348 5181 | E32: DESC.GRAL. 76.75% | F32: Limite de credito: $200,000.00
C33: C.P. 55715 EDO. DE MEX. COACALCO DE BERRIOZABAÑ | D33: frenos.importados@outlook.com | E33: AKEB 77.50%
C34: NEGOCIO "FRENOS IMPORTADOS" | E34: PROM
C35: COMPRA TEXTAR, AKEBONO, SUPER CERAMIC | E35: 11487.08
A36: L | B36: 2835 | C36: FRANCISCO ANTONIO CASTILLO VILLANUEVA | D36: COMPRAS ANTONIO CASTILLO | E36: CONTADO | F36: OBSERVACIONES Y/O COMENTARIOS
C37: AV. RICARDO FLORES MAGÓN No.881 INT 7 | D37: CEL. 55 2888 2864 | E37: DESC. GRAL 76.25% | F37: ANTES FACTURABA COMO ANTONIO CASTILLO
C38: COL. SANTIAGO C.P. 56615 VALLE DE CHALCO SOLIDARIDAD | D38: LISTAS: servicio.castillo@hotmail.com | E38: PROM
C39: EDO. DE MEXICO | D39: FACTURAS: antoniofacturas1@outlook.com | E39: 14310.6
C40: COMPRA: TEXTAR, AKEBONO Y PRIVADAS
A41: L | B41: 275 | C41: MAURICIO CHAVEZ MARTINEZ | D41: DUEÑO MAURICIO CHAVEZ | E41: CREDITO 30 DIAS | F41: OBSERVACIONES Y/O COMENTARIOS
...

Sheet DATOS
A1: Clave | B1: Estatus | C1: Nombre | D1: Calle | E1: Teléfono | F1: Límite de crédito | G1: Saldo | H1: Lista de precios | I1: DESCURNYO | J1: Estado datos fiscales
A2: 4 | B2: Suspendido | C2: JUAN ANGEL ANAYA LOZOYA | D2: ESCUDERO | E2: 01 61 44 14 15 10 | F2: 35000 | G2: 0 | H2: 5 | I2: 20
A3: 5 | B3: Activo | C3: FRENOS ZAIYER SA DE CV | D3: AV. JESUS CARRANZA N°7 | E3: 55 89-00 79 SR MARQUEZ | F3: 27511.41 | G3: 9812.29 | H3: 5 | I3: 20
A4: 8 | B4: Activo | C4: GABRIEL REYES RAMIREZ | D4: EJE CENTRAL LAZARO CARDENAS | E4: 3547 3766 /3625 1406 nex | F4: 801000 | G4: 6226.07 | H4: 7 | I4: 30
A5: 13 | B5: Activo | C5: CLUTCH Y FRENOS ELVIS S A DE C V | D5: CALZ. DE LA NARANJA N°867 Y 873 | E5: 53 58 16 26 | F5: 96878.45 | G5: 36311.08 | H5: 7 | I5: 30
A6: 14 | B6: Suspendido | C6: RAMON MOSQUEDA MARTINEZ | D6: LUZ SAVIÑON | E6: 55436281/50258081 | F6: 392650.66 | G6: 799.44 | H6: 5 | I6: 20
A7: 17 | B7: Activo | C7: COMERCIALIZADORA DE AUTOPARTES FRECENTAU | D7: 1a. PRIVADA DE PROVIDENCIA M-5 L-4 | E7: 5850-2550 VERONICA | F7: 400000 | G7: 58092.92 | H7: 8 | I7: 37.5
A8: 51 | B8: Suspendido | C8: OSCAR SANTILLAN CADENA | D8: BLVD. ADOLFO LÓPEZ MATEOS | E8: 5651-4091/47511050 | F8: 167000 | G8: 0 | H8: 4 | I8: 15
A9: 56 | B9: Activo | C9: MUELLES Y BALATAS DEL GUADIANA SA DE CV | D9: AV. 20 DE NOVIEMBRE | E9: 01 618 817 01 65 Araceli | F9: 105000 | G9: 0 | H9: 5 | I9: 20
A10: 60 | B10: Activo | C10: GUADALUPE VAZQUEZ RUIZ | D10: ISABEL LA CATOLICA | E10: 5740 6766 | F10: 29000 | G10: 17416.94 | H10: 6 | I10: 25
A11: 71 | B11: Activo | C11: VICTOR MANUEL MARTINEZ JIMENEZ | D11: HELIOTROPO | E11: 0177 7322 4524/315 0632 | F11: 350000 | G11: 47126.4 | H11: 7 | I11: 30
A12: 94 | B12: Activo | C12: BEATRIZ RUIZ PEREZ | D12: AV. GUADIANA | E12: 5783 7107 | F12: 0 | G12: 68621.65 | H12: 8 | I12: 37.5
A13: 104 | B13: Activo | C13: SERGIO LEZAMA REYES | D13: AV. HIDALGO | E13: 5365 3040 ,5362 9923 | F13: 0 | G13: 1371.67 | H13: 4 | I13: 15
... A16: 133 | B16: Activo | C16: DON MANTENIMIENTO VEHICULAR SA DE CV | D16: AV. PALO SOLO | E16: 5291 3726 | F16: 430000 | G16: 243116.88 | H16: 7 | I16: 30
A17: 250 | B17: Activo | C17: ROSA ELENA TOVAR RIOS | D17: LA ALBORADA | E17: 55772225 | F17: 0 | G17: -690.51 | H17: 4 | I17: 15
A18: 275 | B18: Activo | C18: MAURICIO CHAVEZ MARTINEZ | D18: AV. CONSTITUYENTES HECTOR VICTORIA | E18: 5815 1953 / 8164-7044 | F18: 115536.79 | G18: 18069.37 | H18: 7 | I18: 30
A19: 334 | B19: Suspendido | C19: SILVIA MARLENE CRUZ REBOLLO | D19: AV. ERMITA IZTAPALAPA | E19: 5694 9316 / 1606 | F19: 0 | G19: 0 | H19: 5 | I19: 20
A20: 401 | B20: Activo | C20: BALATAS Y COMPLEMENTOS OSO SA DE CV | D20: FRANCISCO BARRERA | E20: 5825 0868/ 58223508 ANGEL | F20: 0 | G20: 77382.9 | H20: 7 | I20: 30
A21: 405 | B21: Activo | C21: PATRICIA ESTHER MARAVER ROJAS | D21: URANIO | E21: 57763358 | F21: 71598.56 | G21: 65880.23 | H21: 6 | I21: 25
A22: 424 | B22: Activo | C22: RICARDO SALVADOR RODRIGUEZ JUÁREZ | D22: JOSE MARIA PINO SUAREZ SUR | E22: 01722 27 73 007 OSCAR | F22: 350000 | G22: 159317.14 | H22: 7 | I22: 30
A23: 428 | B23: Activo | C23: PARTES Y SERVICIOS COLIN SA DE CV | D23: RICARTE | E23: 5752 0459 5752-0519 | F23: 100000 | G23: 0 | H23: 6 | I23: 25
A24: 592 | B24: Activo | C24: GERARDO HURTADO GOMEZ | D24: AMADO NERVO | E24: 555570-2857 555570-2653 | F24: 0 | G24: 0 | H24: 5 | I24: 20
A25: 613 | B25: Activo | C25: ALEJANDRO ZAVALA FLORES | D25: NICOLAS BRAVO | E25: 53532615 | F25: 150000 | G25: 134979.58 | H25: 6 | I25: 25
A26: 668 | B26: Suspendido | C26: MASCOMMERCE SA DE CV | D26: CARRETERA CANCUN - AEROPUERTO KM 9.5 | E26: 01 99 8882 1127 | F26: 0 | G26: 0 | H26: 5 | I26: 20
A27: 684 | B27: Activo | C27: BOTTAGLIA SA DE CV | D27: CISNES MANZANA 19 LOTE 7, | E27: 7586-2099/5521554978GVO | F27: 50000 | G27: 2629.83 | H27: 5 | I27: 20
A28: 690 | B28: Suspendido | C28: ALVARO AGUILAR VALDES | D28: CARLOS PICHARDO CRUZ | E28: 6348-5181 | F28: 200000 | G28: 44303.28 | H28: 6 | I28: 25
A29: 717 | B29: Activo | C29: LEONARDO COLIN SALAS | D29: AV. RICARTE No. 505 | E29: 5587-6462 | F29: 100000 | G29: 0 | H29: 6 | I29: 25
A30: 820 | B30: Activo | C30: JENIFFER NAYELLI PEREZ LOPEZ | D30: SAN FEDERICO | E30: 5677 2540 | F30: 84000 | G30: 61579.19 | H30: 7 | I30: 30
A31: 836 | B31: Suspendido | C31: MARIA DE LOURDES CASILLAS HERNANDEZ | D31: SAN JUAN DE ARAGON | E31: 57377993 /62773070 | F31: 1817070 | G31: 0 | H31: 6 | I31: 25
A32: 863 | B32: Suspendido | C32: BERENICE RAMIREZ GARCIA | D32: JAVIER ROJO GOMEZ | E32: 5115-4501 5115-4502 | F32: 800000 | G32: 0 | H32: 7 | I32: 30
A33: 874 | B33: Activo | C33: ROXANA ANGLES ARIAS | D33: ADOLFO LOPEZ MATEOS S/N | E33: 9331105928 | F33: 50000 | G33: 5762.96 | H33: 5 | I33: 20
A34: 880 | B34: Activo | C34: ESPERANZA MONTIEL ONTIVEROS | D34: AV. SOLIDARIDAD LAS TORRES | E34: 01 722 223 4537 | F34: 95000 | G34: 89418.86 | H34: 6 | I34: 25
A35: 996 | B35: Activo | C35: VERONICA NOEMI MEDINA DIAZ | D35: AV. AGUASCALIENTES | E35: 01449 914 46 63 - 1177561 | F35: 95000 | G35: 0 | H35: 6 | I35: 25
A36: 1000 | B36: Activo | C36: JOSE OCTAVIO RAMIREZ REYES | D36: TRABAJADORAS SOCIALES | E36: 5686 5792 5633 8957 | F36: 850000 | G36: 33088 | H36: 7 | I36: 30
A37: 1002 | B37: Activo | C37: HILDA PEREZ MORALES | D37: GRAL. JESUS CARRANZA | E37: 5293-0009 | F37: 0 | G37: 0 | H37: 4 | I37: 15
A38: 1042 | B38: Activo | C38: DIANA CHAVEZ DE LA SOTA | D38: PROLONGACION DIVISION DEL NORTE | E38: 5603-1548 / 5603-5239 | F38: 135000 | G38: 74833.81 | H38: 6 | I38: 25
A39: 1069 | B39: Activo | C39: GABRIEL REYES RAMIREZ | D39: SANTA CRUZ | E39: 7030-1710 / 7030-1711 | F39: 800000 | G39: 3631.57 | H39: 7 | I39: 30
A40: 1170 | B40: Suspendido | C40: JUAN JORGE DINAYA SA DE CV | D40: 18 DE MARZO | F40: 30000 | G40: 0 | H40: 1 | I40: 0
A41: 1225 | B41: Activo | C41: SOLEDAD CALDERON ROCHA | D41: TARANGO | E41: 5593-2243 | F41: 200000 | G41: 175126.66 | H41: 7 | I41: 30
A42: 1594 | B42: Activo | C42: MANUEL ROBERTO MIRANDA TORRES | D42: AV. ORIZABA | E42: 01 272 159 5672 | F42: 0 | G42: 2519.98 | H42: 7 | I42: 30
...

Sheet INACTIVOS
A1: CORPORATIVO AUTO REFACCIONES DE CALIDAD S.A. DE C.V.
A2: CARTERA GERARDO ALPIZAR
A6: Z | B6: No. | C6: CLIENTE | D6: CONTACTO | E6: CRED. Y COND. | F6: OBSERVACIONES Y/O COMENTARIOS
A7: L | B7: 1698 | C7: SILVIA MARLENE CRUZ REBOLLO | D7: MARCO ANTONIO ALFARO | E7: CREDITO 21 DIAS | F7: SE MODIFICO POR CAMBIO DE DOMICILILIO FISCAL
C8: CALLE.JOSE MARIA VIGIL | D8: 56949316 | E8: DESCUENTO GRAL. 76.91% | F8: SE FACTURABA ANTES CON EL
C9: NºEXT15 | D9: 56949306 | E9: PROM | F9: NUMERO DE CLIENTE 334
C10: COL. CAMPAMENTO 2 DE OCTUBRE C.P. 08930 | D10: facturas: marlencruz@prodigy.net.mx | E10: 7356.77 | F10: USO DEL CFDI - G01 FORMA DE PAGO SAT 99
C11: EDO.MEX | D11: listas: ventas@migsabrakes.com.mx | F11: SIN LIMITE DE CREDITO
C12: MUNICIPIO. IZTACALCO
A13: L | B13: 863 | C13: BERENICE RAMIREZ GARCIA | D13: COMPRAS ANTONIO RAMIREZ | E13: CREDITO 35 DIAS | F13: OBSERVACIONES Y/O COMENTARIOS
